BEGIN:VCALENDAR
VERSION:2.0
PRODID:-//Centro Manresa - ECPv6.15.20//NONSGML v1.0//EN
CALSCALE:GREGORIAN
METHOD:PUBLISH
X-ORIGINAL-URL:https://www.centromanresa.org.ar
X-WR-CALDESC:Eventos para Centro Manresa
REFRESH-INTERVAL;VALUE=DURATION:PT1H
X-Robots-Tag:noindex
X-PUBLISHED-TTL:PT1H
BEGIN:VTIMEZONE
TZID:America/Argentina/Cordoba
BEGIN:STANDARD
TZOFFSETFROM:-0300
TZOFFSETTO:-0300
TZNAME:-03
DTSTART:20250101T000000
END:STANDARD
END:VTIMEZONE
BEGIN:VEVENT
DTSTART;TZID=America/Argentina/Cordoba:20260301T080000
DTEND;TZID=America/Argentina/Cordoba:20261130T200000
DTSTAMP:20260422T091800
CREATED:20251205T234907Z
LAST-MODIFIED:20251205T234907Z
UID:2841-1772352000-1796068800@www.centromanresa.org.ar
SUMMARY:Curso de Psicología Espiritual 2026
DESCRIPTION:
URL:https://www.centromanresa.org.ar/actividad/curso-de-psicologia-espiritual-2026/
CATEGORIES:Cursos
ATTACH;FMTTYPE=image/jpeg:https://www.centromanresa.org.ar/wp-content/uploads/2025/12/CPE2026_Facebook.jpg
END:VEVENT
BEGIN:VEVENT
DTSTART;TZID=America/Argentina/Cordoba:20260406T183000
DTEND;TZID=America/Argentina/Cordoba:20261102T183000
DTSTAMP:20260422T091800
CREATED:20251211T192453Z
LAST-MODIFIED:20251211T192453Z
UID:2847-1775500200-1793644200@www.centromanresa.org.ar
SUMMARY:Ejercicios Espirituales en la vida cotidiana 2026
DESCRIPTION:
URL:https://www.centromanresa.org.ar/actividad/ejercicios-espirituales-en-la-vida-cotidiana-2026/
CATEGORIES:Ejercicios Espirituales
ATTACH;FMTTYPE=image/jpeg:https://www.centromanresa.org.ar/wp-content/uploads/2025/12/EVCP2026_Facebook.jpg
END:VEVENT
BEGIN:VEVENT
DTSTART;TZID=America/Argentina/Cordoba:20260429T080000
DTEND;TZID=America/Argentina/Cordoba:20260527T170000
DTSTAMP:20260422T091800
CREATED:20260407T235058Z
LAST-MODIFIED:20260407T235058Z
UID:2983-1777449600-1779901200@www.centromanresa.org.ar
SUMMARY:Taller de Autoconocimiento y Eneagrama
DESCRIPTION:
URL:https://www.centromanresa.org.ar/actividad/taller-de-autoconocimiento-y-eneagrama-2/
CATEGORIES:Talleres
ATTACH;FMTTYPE=image/jpeg:https://www.centromanresa.org.ar/wp-content/uploads/2026/04/Eneagrama2026_Facebook.jpg
END:VEVENT
BEGIN:VEVENT
DTSTART;TZID=America/Argentina/Cordoba:20260514T180000
DTEND;TZID=America/Argentina/Cordoba:20260625T200000
DTSTAMP:20260422T091800
CREATED:20260421T224343Z
LAST-MODIFIED:20260421T224343Z
UID:2990-1778781600-1782417600@www.centromanresa.org.ar
SUMMARY:Comunidad Nova Vita
DESCRIPTION:
URL:https://www.centromanresa.org.ar/actividad/comunidad-nova-vita/
CATEGORIES:Encuentros
ATTACH;FMTTYPE=image/jpeg:https://www.centromanresa.org.ar/wp-content/uploads/2026/04/ComunidadNovaVita_Facebook.jpg
END:VEVENT
BEGIN:VEVENT
DTSTART;TZID=America/Argentina/Cordoba:20260529T080000
DTEND;TZID=America/Argentina/Cordoba:20261012T180000
DTSTAMP:20260422T091800
CREATED:20260306T202738Z
LAST-MODIFIED:20260306T202738Z
UID:2953-1780041600-1791828000@www.centromanresa.org.ar
SUMMARY:Ejercicios Espirituales 2026
DESCRIPTION:
URL:https://www.centromanresa.org.ar/actividad/ejercicios-espirituales-2026/
CATEGORIES:Ejercicios Espirituales
ATTACH;FMTTYPE=image/jpeg:https://www.centromanresa.org.ar/wp-content/uploads/2026/03/EE2026_Facebook.jpg
END:VEVENT
END:VCALENDAR