BEGIN:VCALENDAR
VERSION:2.0
PRODID:-//Centro Manresa - ECPv6.15.20//NONSGML v1.0//EN
CALSCALE:GREGORIAN
METHOD:PUBLISH
X-ORIGINAL-URL:https://www.centromanresa.org.ar
X-WR-CALDESC:Eventos para Centro Manresa
REFRESH-INTERVAL;VALUE=DURATION:PT1H
X-Robots-Tag:noindex
X-PUBLISHED-TTL:PT1H
BEGIN:VTIMEZONE
TZID:America/Argentina/Cordoba
BEGIN:STANDARD
TZOFFSETFROM:-0300
TZOFFSETTO:-0300
TZNAME:-03
DTSTART:20230101T000000
END:STANDARD
END:VTIMEZONE
BEGIN:VEVENT
DTSTART;TZID=America/Argentina/Cordoba:20250607T200000
DTEND;TZID=America/Argentina/Cordoba:20250608T010000
DTSTAMP:20260422T124349
CREATED:20250529T235453Z
LAST-MODIFIED:20250529T235453Z
UID:2731-1749326400-1749344400@www.centromanresa.org.ar
SUMMARY:Vigilia de Pentecostés
DESCRIPTION:
URL:https://www.centromanresa.org.ar/actividad/vigilia-de-pentecostes/
CATEGORIES:Encuentros
ATTACH;FMTTYPE=image/jpeg:https://www.centromanresa.org.ar/wp-content/uploads/2025/05/Pentecostes_Facebook.jpg
END:VEVENT
BEGIN:VEVENT
DTSTART;TZID=America/Argentina/Cordoba:20250517T100000
DTEND;TZID=America/Argentina/Cordoba:20250809T120000
DTSTAMP:20260422T124349
CREATED:20250508T231024Z
LAST-MODIFIED:20250508T231045Z
UID:2726-1747476000-1754740800@www.centromanresa.org.ar
SUMMARY:Comunidad de Discernimiento para jóvenes
DESCRIPTION:
URL:https://www.centromanresa.org.ar/actividad/comunidad-de-discernimiento/
CATEGORIES:Encuentros
ATTACH;FMTTYPE=image/jpeg:https://www.centromanresa.org.ar/wp-content/uploads/2025/05/Afiches-redes-sociales-2-10.jpg
END:VEVENT
BEGIN:VEVENT
DTSTART;TZID=America/Argentina/Cordoba:20250509T180000
DTEND;TZID=America/Argentina/Cordoba:20250511T170000
DTSTAMP:20260422T124349
CREATED:20250411T234530Z
LAST-MODIFIED:20250411T234530Z
UID:2717-1746813600-1746982800@www.centromanresa.org.ar
SUMMARY:Ejercicios Espirituales para jóvenes en mayo
DESCRIPTION:
URL:https://www.centromanresa.org.ar/actividad/ejercicios-espirituales-para-jovenes-en-mayo/
CATEGORIES:Ejercicios Espirituales
ATTACH;FMTTYPE=image/jpeg:https://www.centromanresa.org.ar/wp-content/uploads/2025/04/Facebook_EEMayo2025.jpg
END:VEVENT
BEGIN:VEVENT
DTSTART;TZID=America/Argentina/Cordoba:20250509T080000
DTEND;TZID=America/Argentina/Cordoba:20260111T170000
DTSTAMP:20260422T124349
CREATED:20250408T200209Z
LAST-MODIFIED:20250408T200209Z
UID:2707-1746777600-1768150800@www.centromanresa.org.ar
SUMMARY:Ejercicios Espirituales 2025
DESCRIPTION:
URL:https://www.centromanresa.org.ar/actividad/ejercicios-espirituales-2025/
CATEGORIES:Ejercicios Espirituales
ATTACH;FMTTYPE=image/jpeg:https://www.centromanresa.org.ar/wp-content/uploads/2025/04/RRSS_EE2025.jpg
END:VEVENT
BEGIN:VEVENT
DTSTART;TZID=America/Argentina/Cordoba:20250507T180000
DTEND;TZID=America/Argentina/Cordoba:20250528T200000
DTSTAMP:20260422T124349
CREATED:20250411T234316Z
LAST-MODIFIED:20250411T234316Z
UID:2714-1746640800-1748462400@www.centromanresa.org.ar
SUMMARY:Taller de autoconocimiento y Eneagrama
DESCRIPTION:
URL:https://www.centromanresa.org.ar/actividad/taller-de-autoconocimiento-y-eneagrama/
CATEGORIES:Talleres
ATTACH;FMTTYPE=image/jpeg:https://www.centromanresa.org.ar/wp-content/uploads/2025/04/Afiches-redes-sociales-2-4.jpg
END:VEVENT
BEGIN:VEVENT
DTSTART;TZID=America/Argentina/Cordoba:20250501T080000
DTEND;TZID=America/Argentina/Cordoba:20251130T170000
DTSTAMP:20260422T124349
CREATED:20250409T193800Z
LAST-MODIFIED:20250409T193800Z
UID:2711-1746086400-1764522000@www.centromanresa.org.ar
SUMMARY:Ejercicios espirituales en la vida cotidiana virtuales
DESCRIPTION:
URL:https://www.centromanresa.org.ar/actividad/ejercicios-espirituales-en-la-vida-cotidiana-virtuales-3/
CATEGORIES:Ejercicios Espirituales
ATTACH;FMTTYPE=image/jpeg:https://www.centromanresa.org.ar/wp-content/uploads/2025/04/Web_EVCV.jpg
END:VEVENT
BEGIN:VEVENT
DTSTART;TZID=America/Argentina/Cordoba:20250401T193000
DTEND;TZID=America/Argentina/Cordoba:20251202T203000
DTSTAMP:20260422T124349
CREATED:20250327T231903Z
LAST-MODIFIED:20250327T231903Z
UID:2703-1743535800-1764707400@www.centromanresa.org.ar
SUMMARY:Descansa y confía
DESCRIPTION:
URL:https://www.centromanresa.org.ar/actividad/descansa-y-confia/
CATEGORIES:Encuentros
ATTACH;FMTTYPE=image/jpeg:https://www.centromanresa.org.ar/wp-content/uploads/2025/03/Web_DC2025.jpg
END:VEVENT
BEGIN:VEVENT
DTSTART;TZID=America/Argentina/Cordoba:20250401T080000
DTEND;TZID=America/Argentina/Cordoba:20251130T200000
DTSTAMP:20260422T124349
CREATED:20241216T212350Z
LAST-MODIFIED:20241216T214135Z
UID:2675-1743494400-1764532800@www.centromanresa.org.ar
SUMMARY:Ejercicios Espirituales en la vida cotidiana
DESCRIPTION:
URL:https://www.centromanresa.org.ar/actividad/2675/
CATEGORIES:Ejercicios Espirituales
ATTACH;FMTTYPE=image/jpeg:https://www.centromanresa.org.ar/wp-content/uploads/2024/12/RRSS_EVCPresencial.jpg
END:VEVENT
BEGIN:VEVENT
DTSTART;TZID=America/Argentina/Cordoba:20250401T080000
DTEND;TZID=America/Argentina/Cordoba:20251130T080000
DTSTAMP:20260422T124349
CREATED:20241211T222625Z
LAST-MODIFIED:20241211T222625Z
UID:2672-1743494400-1764489600@www.centromanresa.org.ar
SUMMARY:Curso de Psicología Espiritual 2025
DESCRIPTION:
URL:https://www.centromanresa.org.ar/actividad/curso-de-psicologia-espiritual-2025/
CATEGORIES:Cursos
ATTACH;FMTTYPE=image/jpeg:https://www.centromanresa.org.ar/wp-content/uploads/2024/12/RRSS_CPE2025.jpg
END:VEVENT
BEGIN:VEVENT
DTSTART;TZID=America/Argentina/Cordoba:20250330T180000
DTEND;TZID=America/Argentina/Cordoba:20250330T210000
DTSTAMP:20260422T124349
CREATED:20250327T230427Z
LAST-MODIFIED:20250327T230427Z
UID:2700-1743357600-1743368400@www.centromanresa.org.ar
SUMMARY:Apertura Centro Manresa 2025
DESCRIPTION:
URL:https://www.centromanresa.org.ar/actividad/apertura-centro-manresa-2025/
CATEGORIES:Encuentros
ATTACH;FMTTYPE=image/jpeg:https://www.centromanresa.org.ar/wp-content/uploads/2025/03/Afiches-redes-sociales-2-4.jpg
END:VEVENT
BEGIN:VEVENT
DTSTART;TZID=America/Argentina/Cordoba:20250104T090000
DTEND;TZID=America/Argentina/Cordoba:20250112T183000
DTSTAMP:20260422T124349
CREATED:20241107T201540Z
LAST-MODIFIED:20241107T201540Z
UID:2632-1735981200-1736706600@www.centromanresa.org.ar
SUMMARY:Camino Ignaciano 2025
DESCRIPTION:
URL:https://www.centromanresa.org.ar/actividad/camino-ignaciano-2025/
CATEGORIES:Ejercicios Espirituales
ATTACH;FMTTYPE=image/jpeg:https://www.centromanresa.org.ar/wp-content/uploads/2024/11/RRSS_CaminoIgnaciano_2025.jpg
END:VEVENT
BEGIN:VEVENT
DTSTART;TZID=America/Argentina/Cordoba:20241213T204500
DTEND;TZID=America/Argentina/Cordoba:20241213T213000
DTSTAMP:20260422T124349
CREATED:20241107T213252Z
LAST-MODIFIED:20241107T213315Z
UID:2635-1734122700-1734125400@www.centromanresa.org.ar
SUMMARY:Canciones para preparar la Navidad
DESCRIPTION:
URL:https://www.centromanresa.org.ar/actividad/2635/
CATEGORIES:Encuentros
ATTACH;FMTTYPE=image/jpeg:https://www.centromanresa.org.ar/wp-content/uploads/2024/11/RRSS_CancionesParaPrespararLaNavidad.jpg
END:VEVENT
BEGIN:VEVENT
DTSTART;TZID=America/Argentina/Cordoba:20241018T180000
DTEND;TZID=America/Argentina/Cordoba:20241020T130000
DTSTAMP:20260422T124349
CREATED:20240919T201258Z
LAST-MODIFIED:20240919T201258Z
UID:2628-1729274400-1729429200@www.centromanresa.org.ar
SUMMARY:Ejercicios Espirituales para todo público
DESCRIPTION:
URL:https://www.centromanresa.org.ar/actividad/ejercicios-espirituales-para-todo-publico/
CATEGORIES:Ejercicios Espirituales
ATTACH;FMTTYPE=image/jpeg:https://www.centromanresa.org.ar/wp-content/uploads/2024/09/Feed_EEOctubre.jpg
END:VEVENT
BEGIN:VEVENT
DTSTART;TZID=America/Argentina/Cordoba:20241010T190000
DTEND;TZID=America/Argentina/Cordoba:20241024T203000
DTSTAMP:20260422T124349
CREATED:20240704T222046Z
LAST-MODIFIED:20240919T200959Z
UID:2593-1728586800-1729801800@www.centromanresa.org.ar
SUMMARY:Taller de Danza Contemplativa
DESCRIPTION:
URL:https://www.centromanresa.org.ar/actividad/taller-de-danza-contemplativa-2/
CATEGORIES:Talleres
ATTACH;FMTTYPE=image/jpeg:https://www.centromanresa.org.ar/wp-content/uploads/2024/07/Afiches-redes-sociales-2-2.jpg
END:VEVENT
BEGIN:VEVENT
DTSTART;TZID=America/Argentina/Cordoba:20240923T170000
DTEND;TZID=America/Argentina/Cordoba:20240923T203000
DTSTAMP:20260422T124349
CREATED:20240704T223232Z
LAST-MODIFIED:20240827T233913Z
UID:2596-1727110800-1727123400@www.centromanresa.org.ar
SUMMARY:Espiritualidad para el final de la vida
DESCRIPTION:
URL:https://www.centromanresa.org.ar/actividad/2596/
CATEGORIES:Talleres
ATTACH;FMTTYPE=image/jpeg:https://www.centromanresa.org.ar/wp-content/uploads/2024/07/Afiches-redes-sociales-2-1.jpg
END:VEVENT
BEGIN:VEVENT
DTSTART;TZID=America/Argentina/Cordoba:20240816T180000
DTEND;TZID=America/Argentina/Cordoba:20240818T180000
DTSTAMP:20260422T124349
CREATED:20240716T213731Z
LAST-MODIFIED:20240718T201838Z
UID:2609-1723831200-1724004000@www.centromanresa.org.ar
SUMMARY:Ejercicios Espirituales para jóvenes- Agosto
DESCRIPTION:
URL:https://www.centromanresa.org.ar/actividad/ejercicios-espirituales-para-jovenes-agosto/
CATEGORIES:Ejercicios Espirituales
ATTACH;FMTTYPE=image/jpeg:https://www.centromanresa.org.ar/wp-content/uploads/2024/07/RRSS_EEAgosto2024-1.jpg
END:VEVENT
BEGIN:VEVENT
DTSTART;TZID=America/Argentina/Cordoba:20240808T190000
DTEND;TZID=America/Argentina/Cordoba:20240829T203000
DTSTAMP:20260422T124349
CREATED:20240704T221154Z
LAST-MODIFIED:20240704T221154Z
UID:2589-1723143600-1724963400@www.centromanresa.org.ar
SUMMARY:La segunda mitad de la vida como tiempo de sabiduría
DESCRIPTION:
URL:https://www.centromanresa.org.ar/actividad/la-segunda-mitad-de-la-vida-como-tiempo-de-sabiduria/
CATEGORIES:Cursos
ATTACH;FMTTYPE=image/jpeg:https://www.centromanresa.org.ar/wp-content/uploads/2024/07/Taller2daMitad_RRSS.jpg
END:VEVENT
BEGIN:VEVENT
DTSTART;TZID=America/Argentina/Cordoba:20240803T080000
DTEND;TZID=America/Argentina/Cordoba:20240818T190000
DTSTAMP:20260422T124349
CREATED:20240703T210244Z
LAST-MODIFIED:20240703T212206Z
UID:2582-1722672000-1724007600@www.centromanresa.org.ar
SUMMARY:Escuela de Perdón y Reconciliación
DESCRIPTION:
URL:https://www.centromanresa.org.ar/actividad/2582/
CATEGORIES:Talleres
ATTACH;FMTTYPE=image/jpeg:https://www.centromanresa.org.ar/wp-content/uploads/2024/07/EsPeRe_RRSS.jpg
END:VEVENT
BEGIN:VEVENT
DTSTART;TZID=America/Argentina/Cordoba:20240728T163000
DTEND;TZID=America/Argentina/Cordoba:20240728T203000
DTSTAMP:20260422T124349
CREATED:20240715T225517Z
LAST-MODIFIED:20240715T225517Z
UID:2604-1722184200-1722198600@www.centromanresa.org.ar
SUMMARY:NachoFest 2024
DESCRIPTION:
URL:https://www.centromanresa.org.ar/actividad/nachofest-2024/
CATEGORIES:Jornadas
ATTACH;FMTTYPE=image/jpeg:https://www.centromanresa.org.ar/wp-content/uploads/2024/07/Afiches-redes-sociales-2.jpg
END:VEVENT
BEGIN:VEVENT
DTSTART;TZID=America/Argentina/Cordoba:20240705T193000
DTEND;TZID=America/Argentina/Cordoba:20241129T223000
DTSTAMP:20260422T124349
CREATED:20240628T230527Z
LAST-MODIFIED:20240628T230527Z
UID:2578-1720207800-1732919400@www.centromanresa.org.ar
SUMMARY:Nuevo grupo de vida en Centro Manresa
DESCRIPTION:
URL:https://www.centromanresa.org.ar/actividad/nuevo-grupo-de-vida-en-centro-manresa/
CATEGORIES:Grupo
ATTACH;FMTTYPE=image/jpeg:https://www.centromanresa.org.ar/wp-content/uploads/2024/06/CManresa2_RRSS.jpg
END:VEVENT
BEGIN:VEVENT
DTSTART;TZID=America/Argentina/Cordoba:20240521T193000
DTEND;TZID=America/Argentina/Cordoba:20241231T203000
DTSTAMP:20260422T124349
CREATED:20240514T220034Z
LAST-MODIFIED:20240514T221443Z
UID:2393-1716319800-1735677000@www.centromanresa.org.ar
SUMMARY:Espacio de oración "Descansa y Confía"
DESCRIPTION:
URL:https://www.centromanresa.org.ar/actividad/espacio-de-oracion-descansa-y-confia/
CATEGORIES:Jornadas
ATTACH;FMTTYPE=image/jpeg:https://www.centromanresa.org.ar/wp-content/uploads/2023/11/DescansaConfiaWEB.jpg
END:VEVENT
BEGIN:VEVENT
DTSTART;TZID=America/Argentina/Cordoba:20240519T160000
DTEND;TZID=America/Argentina/Cordoba:20240519T210000
DTSTAMP:20260422T124349
CREATED:20240514T221059Z
LAST-MODIFIED:20240514T221634Z
UID:2564-1716134400-1716152400@www.centromanresa.org.ar
SUMMARY:Encuentro de Pentecostés
DESCRIPTION:
URL:https://www.centromanresa.org.ar/actividad/encuentro-de-pentecostes/
CATEGORIES:Jornadas
ATTACH;FMTTYPE=image/jpeg:https://www.centromanresa.org.ar/wp-content/uploads/2024/05/Pentecostes_WEB.jpg
END:VEVENT
BEGIN:VEVENT
DTSTART;TZID=America/Argentina/Cordoba:20240503T180000
DTEND;TZID=America/Argentina/Cordoba:20240505T180000
DTSTAMP:20260422T124349
CREATED:20240416T194642Z
LAST-MODIFIED:20240416T195006Z
UID:2550-1714759200-1714932000@www.centromanresa.org.ar
SUMMARY:Ejercicios Espirituales para jóvenes- Mayo
DESCRIPTION:
URL:https://www.centromanresa.org.ar/actividad/ejercicios-espirituales-para-jovenes-mayo/
CATEGORIES:Ejercicios Espirituales
ATTACH;FMTTYPE=image/jpeg:https://www.centromanresa.org.ar/wp-content/uploads/2024/04/EE_ParaJovenes_Mayo2024_Feed.jpg
END:VEVENT
BEGIN:VEVENT
DTSTART;TZID=America/Argentina/Cordoba:20240401T080000
DTEND;TZID=America/Argentina/Cordoba:20241130T170000
DTSTAMP:20260422T124349
CREATED:20240216T210038Z
LAST-MODIFIED:20240216T210038Z
UID:2526-1711958400-1732986000@www.centromanresa.org.ar
SUMMARY:Ejercicios Espirituales en la Vida Cotidiana virtuales
DESCRIPTION:
URL:https://www.centromanresa.org.ar/actividad/ejercicios-espirituales-en-la-vida-cotidiana-virtuales-2/
CATEGORIES:Ejercicios Espirituales
ATTACH;FMTTYPE=image/jpeg:https://www.centromanresa.org.ar/wp-content/uploads/2024/02/EVC_Virtual_RRSS.jpg
END:VEVENT
BEGIN:VEVENT
DTSTART;TZID=America/Argentina/Cordoba:20240401T080000
DTEND;TZID=America/Argentina/Cordoba:20241202T170000
DTSTAMP:20260422T124349
CREATED:20231213T201613Z
LAST-MODIFIED:20240216T210110Z
UID:2484-1711958400-1733158800@www.centromanresa.org.ar
SUMMARY:Ejercicios Espirituales en la Vida Cotidiana presenciales
DESCRIPTION:
URL:https://www.centromanresa.org.ar/actividad/ejercicios-espirituales-en-la-vida-cotidiana-2/
CATEGORIES:Ejercicios Espirituales
ATTACH;FMTTYPE=image/png:https://www.centromanresa.org.ar/wp-content/uploads/2023/12/EVC2024_WEB.png
END:VEVENT
BEGIN:VEVENT
DTSTART;TZID=America/Argentina/Cordoba:20240401T080000
DTEND;TZID=America/Argentina/Cordoba:20241101T170000
DTSTAMP:20260422T124349
CREATED:20231213T201131Z
LAST-MODIFIED:20240207T222658Z
UID:2479-1711958400-1730480400@www.centromanresa.org.ar
SUMMARY:Curso Psicología Espiritual
DESCRIPTION:
URL:https://www.centromanresa.org.ar/actividad/curso-de-psicologia-espiritual/
CATEGORIES:Cursos
ATTACH;FMTTYPE=image/png:https://www.centromanresa.org.ar/wp-content/uploads/2023/12/PSICOLOGIAESPIRITUAL2024_WEB.png
END:VEVENT
BEGIN:VEVENT
DTSTART;TZID=America/Argentina/Cordoba:20240327T190000
DTEND;TZID=America/Argentina/Cordoba:20240331T110000
DTSTAMP:20260422T124349
CREATED:20240207T222152Z
LAST-MODIFIED:20240207T222534Z
UID:2516-1711566000-1711882800@www.centromanresa.org.ar
SUMMARY:Retiro espiritual de Semana Santa
DESCRIPTION:
URL:https://www.centromanresa.org.ar/actividad/retiro-espiritual-de-semana-santa/
CATEGORIES:Retiros
ATTACH;FMTTYPE=image/jpeg:https://www.centromanresa.org.ar/wp-content/uploads/2024/02/RetriroEspiritual_SemanaSanta.jpg
END:VEVENT
BEGIN:VEVENT
DTSTART;TZID=America/Argentina/Cordoba:20240327T080000
DTEND;TZID=America/Argentina/Cordoba:20250112T170000
DTSTAMP:20260422T124349
CREATED:20240216T210609Z
LAST-MODIFIED:20240220T181209Z
UID:2531-1711526400-1736701200@www.centromanresa.org.ar
SUMMARY:Ejercicios Espirituales 2024
DESCRIPTION:
URL:https://www.centromanresa.org.ar/actividad/ejercicios-espirituales-2024/
CATEGORIES:Ejercicios Espirituales
ATTACH;FMTTYPE=image/jpeg:https://www.centromanresa.org.ar/wp-content/uploads/2024/02/Ejercicios2024_RRSS-1.jpg
END:VEVENT
BEGIN:VEVENT
DTSTART;TZID=America/Argentina/Cordoba:20240303T170000
DTEND;TZID=America/Argentina/Cordoba:20240303T210000
DTSTAMP:20260422T124349
CREATED:20240228T225825Z
LAST-MODIFIED:20240228T225825Z
UID:2537-1709485200-1709499600@www.centromanresa.org.ar
SUMMARY:Apertura 2024
DESCRIPTION:
URL:https://www.centromanresa.org.ar/actividad/apertura-2024/
CATEGORIES:Jornadas
ATTACH;FMTTYPE=image/jpeg:https://www.centromanresa.org.ar/wp-content/uploads/2024/02/InvitacionAperturaManresa.jpg
END:VEVENT
BEGIN:VEVENT
DTSTART;TZID=America/Argentina/Cordoba:20240106T080000
DTEND;TZID=America/Argentina/Cordoba:20240114T170000
DTSTAMP:20260422T124349
CREATED:20231117T215024Z
LAST-MODIFIED:20231117T215024Z
UID:2468-1704528000-1705251600@www.centromanresa.org.ar
SUMMARY:Camino Ignaciano: Taller de autoconocimiento y Ejercicios Espirituales
DESCRIPTION:
URL:https://www.centromanresa.org.ar/actividad/camino-ignaciano-taller-de-autoconocimiento-y-ejercicios-espirituales/
CATEGORIES:Ejercicios Espirituales
ATTACH;FMTTYPE=image/png:https://www.centromanresa.org.ar/wp-content/uploads/2023/11/CAMINO-IGNACIANO-2024.png
END:VEVENT
END:VCALENDAR