BEGIN:VCALENDAR
VERSION:2.0
PRODID:-//Centro Manresa - ECPv6.15.20//NONSGML v1.0//EN
CALSCALE:GREGORIAN
METHOD:PUBLISH
X-ORIGINAL-URL:https://www.centromanresa.org.ar
X-WR-CALDESC:Eventos para Centro Manresa
REFRESH-INTERVAL;VALUE=DURATION:PT1H
X-Robots-Tag:noindex
X-PUBLISHED-TTL:PT1H
BEGIN:VTIMEZONE
TZID:America/Argentina/Cordoba
BEGIN:STANDARD
TZOFFSETFROM:-0300
TZOFFSETTO:-0300
TZNAME:-03
DTSTART:20210101T000000
END:STANDARD
END:VTIMEZONE
BEGIN:VEVENT
DTSTART;TZID=America/Argentina/Cordoba:20240401T080000
DTEND;TZID=America/Argentina/Cordoba:20241202T170000
DTSTAMP:20260422T160603
CREATED:20231213T201613Z
LAST-MODIFIED:20240216T210110Z
UID:2484-1711958400-1733158800@www.centromanresa.org.ar
SUMMARY:Ejercicios Espirituales en la Vida Cotidiana presenciales
DESCRIPTION:
URL:https://www.centromanresa.org.ar/actividad/ejercicios-espirituales-en-la-vida-cotidiana-2/
CATEGORIES:Ejercicios Espirituales
ATTACH;FMTTYPE=image/png:https://www.centromanresa.org.ar/wp-content/uploads/2023/12/EVC2024_WEB.png
END:VEVENT
BEGIN:VEVENT
DTSTART;TZID=America/Argentina/Cordoba:20240401T080000
DTEND;TZID=America/Argentina/Cordoba:20241101T170000
DTSTAMP:20260422T160603
CREATED:20231213T201131Z
LAST-MODIFIED:20240207T222658Z
UID:2479-1711958400-1730480400@www.centromanresa.org.ar
SUMMARY:Curso Psicología Espiritual
DESCRIPTION:
URL:https://www.centromanresa.org.ar/actividad/curso-de-psicologia-espiritual/
CATEGORIES:Cursos
ATTACH;FMTTYPE=image/png:https://www.centromanresa.org.ar/wp-content/uploads/2023/12/PSICOLOGIAESPIRITUAL2024_WEB.png
END:VEVENT
BEGIN:VEVENT
DTSTART;TZID=America/Argentina/Cordoba:20240327T190000
DTEND;TZID=America/Argentina/Cordoba:20240331T110000
DTSTAMP:20260422T160603
CREATED:20240207T222152Z
LAST-MODIFIED:20240207T222534Z
UID:2516-1711566000-1711882800@www.centromanresa.org.ar
SUMMARY:Retiro espiritual de Semana Santa
DESCRIPTION:
URL:https://www.centromanresa.org.ar/actividad/retiro-espiritual-de-semana-santa/
CATEGORIES:Retiros
ATTACH;FMTTYPE=image/jpeg:https://www.centromanresa.org.ar/wp-content/uploads/2024/02/RetriroEspiritual_SemanaSanta.jpg
END:VEVENT
BEGIN:VEVENT
DTSTART;TZID=America/Argentina/Cordoba:20240327T080000
DTEND;TZID=America/Argentina/Cordoba:20250112T170000
DTSTAMP:20260422T160603
CREATED:20240216T210609Z
LAST-MODIFIED:20240220T181209Z
UID:2531-1711526400-1736701200@www.centromanresa.org.ar
SUMMARY:Ejercicios Espirituales 2024
DESCRIPTION:
URL:https://www.centromanresa.org.ar/actividad/ejercicios-espirituales-2024/
CATEGORIES:Ejercicios Espirituales
ATTACH;FMTTYPE=image/jpeg:https://www.centromanresa.org.ar/wp-content/uploads/2024/02/Ejercicios2024_RRSS-1.jpg
END:VEVENT
BEGIN:VEVENT
DTSTART;TZID=America/Argentina/Cordoba:20240303T170000
DTEND;TZID=America/Argentina/Cordoba:20240303T210000
DTSTAMP:20260422T160603
CREATED:20240228T225825Z
LAST-MODIFIED:20240228T225825Z
UID:2537-1709485200-1709499600@www.centromanresa.org.ar
SUMMARY:Apertura 2024
DESCRIPTION:
URL:https://www.centromanresa.org.ar/actividad/apertura-2024/
CATEGORIES:Jornadas
ATTACH;FMTTYPE=image/jpeg:https://www.centromanresa.org.ar/wp-content/uploads/2024/02/InvitacionAperturaManresa.jpg
END:VEVENT
BEGIN:VEVENT
DTSTART;TZID=America/Argentina/Cordoba:20240106T080000
DTEND;TZID=America/Argentina/Cordoba:20240114T170000
DTSTAMP:20260422T160603
CREATED:20231117T215024Z
LAST-MODIFIED:20231117T215024Z
UID:2468-1704528000-1705251600@www.centromanresa.org.ar
SUMMARY:Camino Ignaciano: Taller de autoconocimiento y Ejercicios Espirituales
DESCRIPTION:
URL:https://www.centromanresa.org.ar/actividad/camino-ignaciano-taller-de-autoconocimiento-y-ejercicios-espirituales/
CATEGORIES:Ejercicios Espirituales
ATTACH;FMTTYPE=image/png:https://www.centromanresa.org.ar/wp-content/uploads/2023/11/CAMINO-IGNACIANO-2024.png
END:VEVENT
BEGIN:VEVENT
DTSTART;TZID=America/Argentina/Cordoba:20240101T080000
DTEND;TZID=America/Argentina/Cordoba:20240125T170000
DTSTAMP:20260422T160603
CREATED:20231213T203431Z
LAST-MODIFIED:20231213T203652Z
UID:2488-1704096000-1706202000@www.centromanresa.org.ar
SUMMARY:
DESCRIPTION:
URL:https://www.centromanresa.org.ar/actividad/2488/
CATEGORIES:Grupo
ATTACH;FMTTYPE=image/jpeg:https://www.centromanresa.org.ar/wp-content/uploads/2023/12/mes-77.jpg
END:VEVENT
BEGIN:VEVENT
DTSTART;TZID=America/Argentina/Cordoba:20231124T190000
DTEND;TZID=America/Argentina/Cordoba:20231201T140000
DTSTAMP:20260422T160603
CREATED:20231003T225016Z
LAST-MODIFIED:20231003T225016Z
UID:2456-1700852400-1701439200@www.centromanresa.org.ar
SUMMARY:Ejercicios Espirituales
DESCRIPTION:
URL:https://www.centromanresa.org.ar/actividad/ejercicios-espirituales/
CATEGORIES:Ejercicios Espirituales
ATTACH;FMTTYPE=image/png:https://www.centromanresa.org.ar/wp-content/uploads/2023/10/Ejercicios-Espirituales-noviembre.png
END:VEVENT
BEGIN:VEVENT
DTSTART;TZID=America/Argentina/Cordoba:20231116T190000
DTEND;TZID=America/Argentina/Cordoba:20231130T203000
DTSTAMP:20260422T160603
CREATED:20231017T210244Z
LAST-MODIFIED:20231017T210244Z
UID:2460-1700161200-1701376200@www.centromanresa.org.ar
SUMMARY:Taller de Danza Contemplativa
DESCRIPTION:
URL:https://www.centromanresa.org.ar/actividad/taller-de-danza-contemplativa/
CATEGORIES:Talleres
ATTACH;FMTTYPE=image/jpeg:https://www.centromanresa.org.ar/wp-content/uploads/2023/10/Taller-danza-contemplativa.jpg
END:VEVENT
BEGIN:VEVENT
DTSTART;TZID=America/Argentina/Cordoba:20231005T190000
DTEND;TZID=America/Argentina/Cordoba:20231005T203000
DTSTAMP:20260422T160603
CREATED:20230907T224423Z
LAST-MODIFIED:20230907T224914Z
UID:2446-1696532400-1696537800@www.centromanresa.org.ar
SUMMARY:Taller presencial
DESCRIPTION:
URL:https://www.centromanresa.org.ar/actividad/taller-presencial/
CATEGORIES:Talleres
ATTACH;FMTTYPE=image/jpeg:https://www.centromanresa.org.ar/wp-content/uploads/2023/09/mes-57.jpg
END:VEVENT
BEGIN:VEVENT
DTSTART;TZID=America/Argentina/Cordoba:20230905T153000
DTEND;TZID=America/Argentina/Cordoba:20230905T170000
DTSTAMP:20260422T160603
CREATED:20230822T184518Z
LAST-MODIFIED:20230822T184518Z
UID:2436-1693927800-1693933200@www.centromanresa.org.ar
SUMMARY:Grupo de meditación
DESCRIPTION:
URL:https://www.centromanresa.org.ar/actividad/grupo-de-meditacion/
CATEGORIES:Grupo
ATTACH;FMTTYPE=image/jpeg:https://www.centromanresa.org.ar/wp-content/uploads/2023/08/taller-2023-08-17T192801.759.jpg
END:VEVENT
BEGIN:VEVENT
DTSTART;TZID=America/Argentina/Cordoba:20230904T190000
DTEND;TZID=America/Argentina/Cordoba:20230925T203000
DTSTAMP:20260422T160603
CREATED:20230822T185104Z
LAST-MODIFIED:20230822T185104Z
UID:2443-1693854000-1695673800@www.centromanresa.org.ar
SUMMARY:Curso-Taller presencial: La fe puesta a prueba
DESCRIPTION:
URL:https://www.centromanresa.org.ar/actividad/curso-taller-presencial-la-fe-puesta-a-prueba/
CATEGORIES:Cursos,Talleres
ATTACH;FMTTYPE=image/jpeg:https://www.centromanresa.org.ar/wp-content/uploads/2023/08/taller-2023-08-04T160520.435.jpg
END:VEVENT
BEGIN:VEVENT
DTSTART;TZID=America/Argentina/Cordoba:20230901T180000
DTEND;TZID=America/Argentina/Cordoba:20230903T180000
DTSTAMP:20260422T160603
CREATED:20230822T184631Z
LAST-MODIFIED:20230822T184631Z
UID:2441-1693591200-1693764000@www.centromanresa.org.ar
SUMMARY:Ejercicios Espirituales para jóvenes
DESCRIPTION:
URL:https://www.centromanresa.org.ar/actividad/ejercicios-espirituales-para-jovenes/
CATEGORIES:Ejercicios Espirituales
ATTACH;FMTTYPE=image/jpeg:https://www.centromanresa.org.ar/wp-content/uploads/2023/08/mes-41.jpg
END:VEVENT
BEGIN:VEVENT
DTSTART;TZID=America/Argentina/Cordoba:20230803T080000
DTEND;TZID=America/Argentina/Cordoba:20230824T170000
DTSTAMP:20260422T160603
CREATED:20230517T191528Z
LAST-MODIFIED:20230517T191528Z
UID:2412-1691049600-1692896400@www.centromanresa.org.ar
SUMMARY:Taller presencial: espiritualidad para el final de la vida
DESCRIPTION:
URL:https://www.centromanresa.org.ar/actividad/taller-presencial-espiritualidad-para-el-final-de-la-vida/
LOCATION:Centro Manresa\, Obispo Trejo 219\, Córdoba\, Argentina
CATEGORIES:Talleres
ATTACH;FMTTYPE=image/jpeg:https://www.centromanresa.org.ar/wp-content/uploads/2023/05/final-de-la-vida-taller.jpg
END:VEVENT
BEGIN:VEVENT
DTSTART;TZID=America/Argentina/Cordoba:20230724T190000
DTEND;TZID=America/Argentina/Cordoba:20230724T200000
DTSTAMP:20260422T160603
CREATED:20230629T213627Z
LAST-MODIFIED:20230629T213627Z
UID:2423-1690225200-1690228800@www.centromanresa.org.ar
SUMMARY:Conferencia presencial
DESCRIPTION:
URL:https://www.centromanresa.org.ar/actividad/conferencia-presencial/
CATEGORIES:Conferencia
ATTACH;FMTTYPE=image/jpeg:https://www.centromanresa.org.ar/wp-content/uploads/2023/06/castro-sj.jpg
END:VEVENT
BEGIN:VEVENT
DTSTART;VALUE=DATE:20230616
DTEND;VALUE=DATE:20230617
DTSTAMP:20260422T160603
CREATED:20230711T230706Z
LAST-MODIFIED:20230711T230706Z
UID:2427-1686873600-1686959999@www.centromanresa.org.ar
SUMMARY:Grupo Comunidad Manresa
DESCRIPTION:
URL:https://www.centromanresa.org.ar/actividad/grupo-comunidad-manresa/
CATEGORIES:Grupo
ATTACH;FMTTYPE=image/jpeg:https://www.centromanresa.org.ar/wp-content/uploads/2023/07/COMUNDAD-MANRESA-1.jpg
END:VEVENT
BEGIN:VEVENT
DTSTART;TZID=America/Argentina/Cordoba:20230601T080000
DTEND;TZID=America/Argentina/Cordoba:20230622T170000
DTSTAMP:20260422T160603
CREATED:20230517T191255Z
LAST-MODIFIED:20230517T191255Z
UID:2409-1685606400-1687453200@www.centromanresa.org.ar
SUMMARY:Taller presencial: segunda mita de la vida como tiempo de sabiduría
DESCRIPTION:
URL:https://www.centromanresa.org.ar/actividad/taller-presencial-segunda-mita-de-la-vida-como-tiempo-de-sabiduria/
LOCATION:Centro Manresa\, Obispo Trejo 219\, Córdoba\, Argentina
CATEGORIES:Talleres
ATTACH;FMTTYPE=image/jpeg:https://www.centromanresa.org.ar/wp-content/uploads/2023/05/Segunda-mitad-galeria-1.jpg
END:VEVENT
BEGIN:VEVENT
DTSTART;VALUE=DATE:20230429
DTEND;VALUE=DATE:20231126
DTSTAMP:20260422T160603
CREATED:20221116T191319Z
LAST-MODIFIED:20221116T191319Z
UID:2295-1682726400-1700956799@www.centromanresa.org.ar
SUMMARY:Psicología Espiritual
DESCRIPTION:
URL:https://www.centromanresa.org.ar/actividad/psicologia-espiritual/
CATEGORIES:Cursos
ATTACH;FMTTYPE=image/jpeg:https://www.centromanresa.org.ar/wp-content/uploads/2022/11/PSICOLOGIA-ESPIRITUAL-CUADRADO.jpg
END:VEVENT
BEGIN:VEVENT
DTSTART;TZID=America/Argentina/Cordoba:20230406T163000
DTEND;TZID=America/Argentina/Cordoba:20230408T210000
DTSTAMP:20260422T160603
CREATED:20230330T225528Z
LAST-MODIFIED:20230330T225528Z
UID:2389-1680798600-1680987600@www.centromanresa.org.ar
SUMMARY:PASCUA JOVEN 2023
DESCRIPTION:
URL:https://www.centromanresa.org.ar/actividad/pascua-joven-2023/
LOCATION:Centro Manresa\, Obispo Trejo 219\, Córdoba\, Argentina
CATEGORIES:Jornadas
ATTACH;FMTTYPE=image/jpeg:https://www.centromanresa.org.ar/wp-content/uploads/2023/03/taller-Post-para-Instagram-vertical-35.jpg
END:VEVENT
BEGIN:VEVENT
DTSTART;TZID=America/Argentina/Cordoba:20230330T080000
DTEND;TZID=America/Argentina/Cordoba:20230330T080000
DTSTAMP:20260422T160603
CREATED:20230308T193721Z
LAST-MODIFIED:20230330T230054Z
UID:2381-1680163200-1680163200@www.centromanresa.org.ar
SUMMARY:Ejercicios Espirituales en la vida cotidiana virtuales
DESCRIPTION:
URL:https://www.centromanresa.org.ar/actividad/ejercicios-espirituales-en-la-vida-cotidiana-virtuales/
CATEGORIES:Ejercicios Espirituales
ATTACH;FMTTYPE=image/jpeg:https://www.centromanresa.org.ar/wp-content/uploads/2023/03/PAGINA-WEB.jpg
END:VEVENT
BEGIN:VEVENT
DTSTART;VALUE=DATE:20230301
DTEND;VALUE=DATE:20230501
DTSTAMP:20260422T160603
CREATED:20221220T215258Z
LAST-MODIFIED:20221220T220634Z
UID:2365-1677628800-1682899199@www.centromanresa.org.ar
SUMMARY:Ejercicios Espirituales en la vida cotidiana
DESCRIPTION:Para quienes quieran realizar los Ejercicios Espirituales de San Ignacio de forma completa durante todo el año 2023. Una excelente guía para llevar una vida de oración organizada y metódica que ayudará a ordenarse uno mismo y crecer en la intimidad con Dios. Una posibilidad para dedicar más profundamente este año al crecimiento espiritual y la maduración de la fe. \n  \n 
URL:https://www.centromanresa.org.ar/actividad/ejercicios-espirituales-en-la-vida-cotidiana/
CATEGORIES:Ejercicios Espirituales
ATTACH;FMTTYPE=image/jpeg:https://www.centromanresa.org.ar/wp-content/uploads/2022/12/taller-2022-12-20T185826.844.jpg
END:VEVENT
BEGIN:VEVENT
DTSTART;VALUE=DATE:20230107
DTEND;VALUE=DATE:20230116
DTSTAMP:20260422T160603
CREATED:20221025T113006Z
LAST-MODIFIED:20221025T114027Z
UID:2003-1673049600-1673827199@www.centromanresa.org.ar
SUMMARY:Camino Ignaciano 2023
DESCRIPTION:
URL:https://www.centromanresa.org.ar/actividad/camino-ignaciano-2023/
CATEGORIES:Ejercicios Espirituales
ATTACH;FMTTYPE=image/jpeg:https://www.centromanresa.org.ar/wp-content/uploads/2022/10/CAMINO-IGNACIANO-2023.jpg
END:VEVENT
BEGIN:VEVENT
DTSTART;TZID=America/Argentina/Cordoba:20221107T190000
DTEND;TZID=America/Argentina/Cordoba:20221107T210000
DTSTAMP:20260422T160603
CREATED:20221025T111528Z
LAST-MODIFIED:20221025T114019Z
UID:2006-1667847600-1667854800@www.centromanresa.org.ar
SUMMARY:¿Tiene sentido la aventura humana?
DESCRIPTION:
URL:https://www.centromanresa.org.ar/actividad/tiene-sentido-la-aventura-humana/
CATEGORIES:Presentación del libro
ATTACH;FMTTYPE=image/jpeg:https://www.centromanresa.org.ar/wp-content/uploads/2022/10/Presentacion-del-libro-Raffo-Ramos.jpg
END:VEVENT
BEGIN:VEVENT
DTSTART;TZID=America/Argentina/Cordoba:20221102T190000
DTEND;TZID=America/Argentina/Cordoba:20221116T203000
DTSTAMP:20260422T160603
CREATED:20221025T110007Z
LAST-MODIFIED:20221025T114010Z
UID:2010-1667415600-1668630600@www.centromanresa.org.ar
SUMMARY:Segunda mitad de la vida como tiempo de sabiduría
DESCRIPTION:
URL:https://www.centromanresa.org.ar/actividad/segunda-mitad-de-la-vida-como-tiempo-de-sabiduria/
CATEGORIES:Talleres
ATTACH;FMTTYPE=image/jpeg:https://www.centromanresa.org.ar/wp-content/uploads/2022/10/Segunda-mitad-de-la-vida-galeria-1.jpg
END:VEVENT
BEGIN:VEVENT
DTSTART;VALUE=DATE:20221014
DTEND;VALUE=DATE:20221015
DTSTAMP:20260422T160603
CREATED:20221116T191057Z
LAST-MODIFIED:20221116T191057Z
UID:2292-1665705600-1665791999@www.centromanresa.org.ar
SUMMARY:La contemplación imaginativa
DESCRIPTION:
URL:https://www.centromanresa.org.ar/actividad/la-contemplacion-imaginativa/
CATEGORIES:Cursos
ATTACH;FMTTYPE=image/jpeg:https://www.centromanresa.org.ar/wp-content/uploads/2022/11/taller-84.jpg
END:VEVENT
BEGIN:VEVENT
DTSTART;VALUE=DATE:20221001
DTEND;VALUE=DATE:20221002
DTSTAMP:20260422T160603
CREATED:20221116T190052Z
LAST-MODIFIED:20221116T190052Z
UID:2288-1664582400-1664668799@www.centromanresa.org.ar
SUMMARY:Trekking conectar
DESCRIPTION:
URL:https://www.centromanresa.org.ar/actividad/trekking-conectar/
CATEGORIES:Jornadas
ATTACH;FMTTYPE=image/jpeg:https://www.centromanresa.org.ar/wp-content/uploads/2022/11/Trekking-conectar.jpg
END:VEVENT
BEGIN:VEVENT
DTSTART;TZID=America/Argentina/Cordoba:20220915T190000
DTEND;TZID=America/Argentina/Cordoba:20220929T203000
DTSTAMP:20260422T160603
CREATED:20221116T191557Z
LAST-MODIFIED:20221116T191557Z
UID:2298-1663268400-1664483400@www.centromanresa.org.ar
SUMMARY:Buscar y hallar a Dios en todas las cosas
DESCRIPTION:
URL:https://www.centromanresa.org.ar/actividad/buscar-y-hallar-a-dios-en-todas-las-cosas/
CATEGORIES:Talleres
ATTACH;FMTTYPE=image/jpeg:https://www.centromanresa.org.ar/wp-content/uploads/2022/11/Buscar-y-hallar-redes.jpg
END:VEVENT
END:VCALENDAR