BEGIN:VCALENDAR
VERSION:2.0
PRODID:-//Centro Manresa - ECPv6.15.20//NONSGML v1.0//EN
CALSCALE:GREGORIAN
METHOD:PUBLISH
X-WR-CALNAME:Centro Manresa
X-ORIGINAL-URL:https://www.centromanresa.org.ar
X-WR-CALDESC:Eventos para Centro Manresa
REFRESH-INTERVAL;VALUE=DURATION:PT1H
X-Robots-Tag:noindex
X-PUBLISHED-TTL:PT1H
BEGIN:VTIMEZONE
TZID:America/Argentina/Cordoba
BEGIN:STANDARD
TZOFFSETFROM:-0300
TZOFFSETTO:-0300
TZNAME:-03
DTSTART:20210101T000000
END:STANDARD
END:VTIMEZONE
BEGIN:VEVENT
DTSTART;VALUE=DATE:20221014
DTEND;VALUE=DATE:20221015
DTSTAMP:20260422T190711
CREATED:20221116T191057Z
LAST-MODIFIED:20221116T191057Z
UID:2292-1665705600-1665791999@www.centromanresa.org.ar
SUMMARY:La contemplación imaginativa
DESCRIPTION:
URL:https://www.centromanresa.org.ar/actividad/la-contemplacion-imaginativa/
CATEGORIES:Cursos
ATTACH;FMTTYPE=image/jpeg:https://www.centromanresa.org.ar/wp-content/uploads/2022/11/taller-84.jpg
END:VEVENT
BEGIN:VEVENT
DTSTART;VALUE=DATE:20221001
DTEND;VALUE=DATE:20221002
DTSTAMP:20260422T190711
CREATED:20221116T190052Z
LAST-MODIFIED:20221116T190052Z
UID:2288-1664582400-1664668799@www.centromanresa.org.ar
SUMMARY:Trekking conectar
DESCRIPTION:
URL:https://www.centromanresa.org.ar/actividad/trekking-conectar/
CATEGORIES:Jornadas
ATTACH;FMTTYPE=image/jpeg:https://www.centromanresa.org.ar/wp-content/uploads/2022/11/Trekking-conectar.jpg
END:VEVENT
BEGIN:VEVENT
DTSTART;TZID=America/Argentina/Cordoba:20220915T190000
DTEND;TZID=America/Argentina/Cordoba:20220929T203000
DTSTAMP:20260422T190711
CREATED:20221116T191557Z
LAST-MODIFIED:20221116T191557Z
UID:2298-1663268400-1664483400@www.centromanresa.org.ar
SUMMARY:Buscar y hallar a Dios en todas las cosas
DESCRIPTION:
URL:https://www.centromanresa.org.ar/actividad/buscar-y-hallar-a-dios-en-todas-las-cosas/
CATEGORIES:Talleres
ATTACH;FMTTYPE=image/jpeg:https://www.centromanresa.org.ar/wp-content/uploads/2022/11/Buscar-y-hallar-redes.jpg
END:VEVENT
END:VCALENDAR